BEGIN:VCALENDAR
VERSION:2.0
PRODID:-//The Dancing Fish of Lake Santa Fe - ECPv6.15.20//NONSGML v1.0//EN
CALSCALE:GREGORIAN
METHOD:PUBLISH
X-ORIGINAL-URL:https://dancingfish.dance
X-WR-CALDESC:Events for The Dancing Fish of Lake Santa Fe
REFRESH-INTERVAL;VALUE=DURATION:PT1H
X-Robots-Tag:noindex
X-PUBLISHED-TTL:PT1H
BEGIN:VTIMEZONE
TZID:America/New_York
BEGIN:DAYLIGHT
TZOFFSETFROM:-0500
TZOFFSETTO:-0400
TZNAME:EDT
DTSTART:20230312T070000
END:DAYLIGHT
BEGIN:STANDARD
TZOFFSETFROM:-0400
TZOFFSETTO:-0500
TZNAME:EST
DTSTART:20231105T060000
END:STANDARD
BEGIN:DAYLIGHT
TZOFFSETFROM:-0500
TZOFFSETTO:-0400
TZNAME:EDT
DTSTART:20240310T070000
END:DAYLIGHT
BEGIN:STANDARD
TZOFFSETFROM:-0400
TZOFFSETTO:-0500
TZNAME:EST
DTSTART:20241103T060000
END:STANDARD
BEGIN:DAYLIGHT
TZOFFSETFROM:-0500
TZOFFSETTO:-0400
TZNAME:EDT
DTSTART:20250309T070000
END:DAYLIGHT
BEGIN:STANDARD
TZOFFSETFROM:-0400
TZOFFSETTO:-0500
TZNAME:EST
DTSTART:20251102T060000
END:STANDARD
END:VTIMEZONE
BEGIN:VEVENT
DTSTART;TZID=America/New_York:20241206T180000
DTEND;TZID=America/New_York:20241208T150000
DTSTAMP:20260421T225926
CREATED:20241202T190752Z
LAST-MODIFIED:20241204T034208Z
UID:5547-1733508000-1733670000@dancingfish.dance
SUMMARY:Gaye Fifer & Mary Wesley + Kalos & Hot Coffee Breakdown
DESCRIPTION:Gaye Fifer & Mary Wesley + Kalos & Hot Coffee Breakdown\n3 days * 2 Great Bands * 2 National Callers * 16 hours of Dances\nGaye Fifer\nMary Wesley\, contra caller\nHot Coffee Breakdown\nHot Coffee Breakdown is:\n\nTom Cunningham on  fiddle\nKate Sanders on keyboard\, and \nLuis deLeon on percussion.\n\nAcclaimed Celtic music trio Kalos brings together three masters of tradition for music full of pluck\, depth\, and good reels.\nKalos is:\n\nRyan McKasson (fiddle\, viola\, background vocals)\nEric McDonald (guitar\, mandolin\, lead vocals)\, and\nJeremiah McLane (accordion\, keyboards\, background vocals)\n\nSchedule:\n\nFriday 6-10 pm\nSaturday 12-4 pm\nSaturday 6-10 pm\nSunday 11 am-3 pm\n\nAdmission Policy:\n\nMasks are optional at The Dancing Fish. Dance mindfully and let’s all stay healthy together!\nUnder 18: Free (with adult); under 25: half price; Adults: You decide. \nAll donations go to cover costs of musicians\, callers and sound tech.\nSimply make your personal contribution here by PayPal or by credit card or debit card.\nSelect the drop-down category that applies to you and select your preferred means of payment.\nThat’s all there is to it. Make your donation and you are ‘in’. See you on the dance floor!\n\n\n\n\n\n\n\n\n\n\n\n\n\n\n\n\n\n\nMake Your Contribution Here:\n\n\n\nMonthly First Weekend Donations\n		\n		Payment OptionsYOU decideAdult - Single DanceAdults (2) - Single DanceAdult - Weekend PassAdults (2) - Weekend PassYouth - Single DanceYouth - Weekend PassYouth (2) - Weekend Pass
URL:https://dancingfish.dance/event/gaye-fifer-mary-wesley-kalos-hot-coffee-breakdown/
LOCATION:The Dancing Fish of Lake Santa Fe\, 24800 SR-26\, Melrose\, FL\, 32666\, United States
CATEGORIES:First Weekends
ATTACH;FMTTYPE=image/jpeg:https://dancingfish.dance/wp-content/uploads/2024/11/Kalos2024.jpg
ORGANIZER;CN="Joe Rush":MAILTO:joerushmd@icloud.com
END:VEVENT
END:VCALENDAR