BEGIN:VCALENDAR
VERSION:2.0
PRODID:-//The Dancing Fish of Lake Santa Fe - ECPv6.15.20//NONSGML v1.0//EN
CALSCALE:GREGORIAN
METHOD:PUBLISH
X-WR-CALNAME:The Dancing Fish of Lake Santa Fe
X-ORIGINAL-URL:https://dancingfish.dance
X-WR-CALDESC:Events for The Dancing Fish of Lake Santa Fe
REFRESH-INTERVAL;VALUE=DURATION:PT1H
X-Robots-Tag:noindex
X-PUBLISHED-TTL:PT1H
BEGIN:VTIMEZONE
TZID:America/New_York
BEGIN:DAYLIGHT
TZOFFSETFROM:-0500
TZOFFSETTO:-0400
TZNAME:EDT
DTSTART:20230312T070000
END:DAYLIGHT
BEGIN:STANDARD
TZOFFSETFROM:-0400
TZOFFSETTO:-0500
TZNAME:EST
DTSTART:20231105T060000
END:STANDARD
BEGIN:DAYLIGHT
TZOFFSETFROM:-0500
TZOFFSETTO:-0400
TZNAME:EDT
DTSTART:20240310T070000
END:DAYLIGHT
BEGIN:STANDARD
TZOFFSETFROM:-0400
TZOFFSETTO:-0500
TZNAME:EST
DTSTART:20241103T060000
END:STANDARD
BEGIN:DAYLIGHT
TZOFFSETFROM:-0500
TZOFFSETTO:-0400
TZNAME:EDT
DTSTART:20250309T070000
END:DAYLIGHT
BEGIN:STANDARD
TZOFFSETFROM:-0400
TZOFFSETTO:-0500
TZNAME:EST
DTSTART:20251102T060000
END:STANDARD
END:VTIMEZONE
BEGIN:VEVENT
DTSTART;TZID=America/New_York:20240830T180000
DTEND;TZID=America/New_York:20240901T210000
DTSTAMP:20260423T200007
CREATED:20240725T175400Z
LAST-MODIFIED:20240830T175104Z
UID:4477-1725040800-1725224400@dancingfish.dance
SUMMARY:Labor Day Weekend: 2 Bands + 2 Callers over 3 Days
DESCRIPTION:Labor Day Weekend: Kingfisher & Playing with Fyre with callers Dereck Kalish & Terry Doyle\nTerry Doyle & Dereck Kalish are the contra callers; Kingfisher & Playing with Fyre are the bands performing over three days of Labor Day Weekend\, 2024. Cookout/Picnic/Campout all weekend long\nKingfisher performing at Peterborough\nKingfisher is:\n\nCecilia Vacanti on fiddle; and\nJeff Kaufman on keyboard.\n\nPlaying With Fyre is:George Paul on keyboardRob Zisette on fiddle; andSteve Kemble on percussion.\nPlaying With Fyre is:\n\nGeorge Paul on keyboard\nRob Zisette on fiddle; and\nSteve Kemble on percussion.\n\nDereck Kalish\, contra caller\nTerry Doyle\, contra dance caller\nSchedule:\n\nFriday 6 – 10 pm\nSaturday 12 – 4 pm\nSaturday 6 – 10 pm\nSunday 11 am – 3 pm\n\nAdmission Policy:\n\n\n\n\nCovid protocol is waived at The Dancing Fish. Dance mindfully and let’s all stay healthy together!\n\n\n\nMasks are optional.\n\n\n\nDancing Fish registration process is also suspended. So no need to register online any longer.\n\n\n\nSimply make your personal contribution here by PayPal or by credit card or debit card.\n\n\n\nSelect the drop-down category that applies to you and select your preferred means of payment.\n\n\n\nThat’s all there is to it. Make your donation and you are ‘in’. See you on the dance floor!\n\n\n\n\nMake Your Donation Here:\n\n\n\nMonthly First Weekend Donations\n		\n		Payment OptionsYOU decideAdult - Single DanceAdults (2) - Single DanceAdult - Weekend PassAdults (2) - Weekend PassYouth - Single DanceYouth - Weekend PassYouth (2) - Weekend Pass\n\n\n\nAnd see you on the dance floor dancing to Kingfisher! \nFor more info on dances\, propane grills\, picnicking\, camping\, kayaking\, dining\, housing\, etc. email: JoeRushMD@iCloud.com  \nPlease use the main entrance to The Dancing Fish of Lake Santa Fe at 24800 SR-26\, Melrose\, FL 32666
URL:https://dancingfish.dance/event/labor-day-weekend/
LOCATION:The Dancing Fish of Lake Santa Fe\, 24800 SR-26\, Melrose\, FL\, 32666\, United States
CATEGORIES:First Weekends
ATTACH;FMTTYPE=image/jpeg:https://dancingfish.dance/wp-content/uploads/2024/08/Playing-with-Fyre3.jpg
ORGANIZER;CN="Joe Rush":MAILTO:joerushmd@icloud.com
END:VEVENT
END:VCALENDAR