BEGIN:VCALENDAR
VERSION:2.0
PRODID:-//The Dancing Fish of Lake Santa Fe - ECPv6.15.20//NONSGML v1.0//EN
CALSCALE:GREGORIAN
METHOD:PUBLISH
X-ORIGINAL-URL:https://dancingfish.dance
X-WR-CALDESC:Events for The Dancing Fish of Lake Santa Fe
REFRESH-INTERVAL;VALUE=DURATION:PT1H
X-Robots-Tag:noindex
X-PUBLISHED-TTL:PT1H
BEGIN:VTIMEZONE
TZID:America/New_York
BEGIN:DAYLIGHT
TZOFFSETFROM:-0500
TZOFFSETTO:-0400
TZNAME:EDT
DTSTART:20230312T070000
END:DAYLIGHT
BEGIN:STANDARD
TZOFFSETFROM:-0400
TZOFFSETTO:-0500
TZNAME:EST
DTSTART:20231105T060000
END:STANDARD
BEGIN:DAYLIGHT
TZOFFSETFROM:-0500
TZOFFSETTO:-0400
TZNAME:EDT
DTSTART:20240310T070000
END:DAYLIGHT
BEGIN:STANDARD
TZOFFSETFROM:-0400
TZOFFSETTO:-0500
TZNAME:EST
DTSTART:20241103T060000
END:STANDARD
BEGIN:DAYLIGHT
TZOFFSETFROM:-0500
TZOFFSETTO:-0400
TZNAME:EDT
DTSTART:20250309T070000
END:DAYLIGHT
BEGIN:STANDARD
TZOFFSETFROM:-0400
TZOFFSETTO:-0500
TZNAME:EST
DTSTART:20251102T060000
END:STANDARD
END:VTIMEZONE
BEGIN:VEVENT
DTSTART;TZID=America/New_York:20240316T180000
DTEND;TZID=America/New_York:20240316T210000
DTSTAMP:20260423T140409
CREATED:20240311T152430Z
LAST-MODIFIED:20240311T154849Z
UID:4472-1710612000-1710622800@dancingfish.dance
SUMMARY:March 16: Vicki Morrison and The Baldwins
DESCRIPTION:Vicki Morrison and The Baldwins\n \nThe Baldwins are:\n\nScott Baldwin – fiddle\nInslee Baldwin – guitar\nBrent Baldwin – banjo\nLloyd Baldwin – fiddle\n\nVicki Morrison\, contra dance caller\nWHEN: March 16\, 2024    6:00 pm – 9:00 pm \n\n\n\nAdmission Policy:\n\n\n\n\nCovid protocol is waived at The Dancing Fish. Dance mindfully and let’s all stay healthy together!\n\n\n\nMasks are optional.\n\n\n\nDancing Fish registration process is also suspended. So no need to register online any longer.\n\n\n\nSimply make your personal contribution here by PayPal or by credit card or debit card.\n\n\n\nSelect the drop-down category that applies to you and select your preferred means of payment.\n\n\n\nThat’s all there is to it. Make your donation and you are ‘in’. See you on the dance floor!\n\n\n\n\nMake Your Donation Here:\n\n\n\nDonation to The Dancing Fish\n		\n		for 3rd Saturday Dances onlyYOU chooseAdult (1)Adults (2)Youth (1)Youth (2)
URL:https://dancingfish.dance/event/vicki-morrison-and-the-baldwins/
LOCATION:The Dancing Fish of Lake Santa Fe\, 24800 SR-26\, Melrose\, FL\, 32666\, United States
CATEGORIES:3rd Saturdays
ATTACH;FMTTYPE=image/jpeg:https://dancingfish.dance/wp-content/uploads/2022/05/Baldwins_5062.jpg
ORGANIZER;CN="Joe Rush":MAILTO:joerushmd@icloud.com
END:VEVENT
END:VCALENDAR